BEGIN:VCALENDAR
VERSION:2.0
PRODID:-//Plone.org//NONSGML plone.app.event//EN
X-WR-TIMEZONE:Europe/Berlin
BEGIN:VEVENT
SUMMARY:OneDay_VR - Virtual Reality Konferenz
DTSTART;TZID=Europe/Berlin:20190329T140000
DTEND;TZID=Europe/Berlin:20190329T200000
DTSTAMP:20260420T150508Z
UID:051cc1b5015e491db95e6cbe3f659741@www.interreg.org
CONTACT:http://www.onedayvr.de/
CREATED:20190314T074206Z
DESCRIPTION:Konferenz an der Hochschule Konstanz Technik\, Wirtschaft und 
 Gestaltung (HTWG) rund um das Thema virtuelle Realität
LAST-MODIFIED:20240606T125152Z
LOCATION:HTWG Konstanz\, Alfred-Wachtel-Straße 8\, 78462 Konstanz\; Gebä
 ude P (Vorträge) Gebäude L (Ausstellung)
URL:https://www.interreg.org/ueber-interreg/termine/oneday_vr-virtual-real
 ity-konferenz
END:VEVENT
BEGIN:VTIMEZONE
TZID:Europe/Berlin
X-LIC-LOCATION:Europe/Berlin
BEGIN:STANDARD
DTSTART:20181028T020000
TZNAME:CET
TZOFFSETFROM:+0200
TZOFFSETTO:+0100
END:STANDARD
END:VTIMEZONE
END:VCALENDAR
